BEGIN:VCALENDAR
VERSION:2.0
PRODID:-//Schleswig-Holsteinische Krebsgesellschaft e. V. - ECPv6.2.6.1//NONSGML v1.0//EN
CALSCALE:GREGORIAN
METHOD:PUBLISH
X-WR-CALNAME:Schleswig-Holsteinische Krebsgesellschaft e. V.
X-ORIGINAL-URL:https://testwpsl.krebsgesellschaft-sh.de
X-WR-CALDESC:Veranstaltungen für Schleswig-Holsteinische Krebsgesellschaft e. V.
REFRESH-INTERVAL;VALUE=DURATION:PT1H
X-Robots-Tag:noindex
X-PUBLISHED-TTL:PT1H
BEGIN:VTIMEZONE
TZID:Europe/Berlin
BEGIN:DAYLIGHT
TZOFFSETFROM:+0100
TZOFFSETTO:+0200
TZNAME:CEST
DTSTART:20250330T010000
END:DAYLIGHT
BEGIN:STANDARD
TZOFFSETFROM:+0200
TZOFFSETTO:+0100
TZNAME:CET
DTSTART:20251026T010000
END:STANDARD
BEGIN:DAYLIGHT
TZOFFSETFROM:+0100
TZOFFSETTO:+0200
TZNAME:CEST
DTSTART:20260329T010000
END:DAYLIGHT
BEGIN:STANDARD
TZOFFSETFROM:+0200
TZOFFSETTO:+0100
TZNAME:CET
DTSTART:20261025T010000
END:STANDARD
END:VTIMEZONE
BEGIN:VEVENT
DTSTART;TZID=Europe/Berlin:20260202T173000
DTEND;TZID=Europe/Berlin:20260202T193000
DTSTAMP:20260422T025234
CREATED:20230412T171933Z
LAST-MODIFIED:20230412T171933Z
UID:10003546-1770053400-1770060600@testwpsl.krebsgesellschaft-sh.de
SUMMARY:Frauenselbsthilfe Krebs Gruppe Lübeck
DESCRIPTION:Wir treffen uns: um Erfahrungen auszutauschen; um Neuigkeiten aus dem Gesundheitssystem zu erfahren; zu Vorträgen von Expert*innen aus allen onkologischen Bereichen; um der Lebensfreude trotz Krebs Raum zu geben. \nTreffen: jeder erste Montag im Monat von 17:30 bis 19:30 Uhr \nWo: St.-Lukas-Haus\, Lübeck /Alexander-Fleming-Str.14 / 23562 Lübeck ; Bushaltestelle/ Linie1 und 2/ Alexander-Fleming-Straße \nKontakt: Miriam Downie & Karin Lüneburg: frauenselbsthilfe-luebeck@web.de \nDie Teilnahme ist kostenlos und unverbindlich.
URL:https://testwpsl.krebsgesellschaft-sh.de/termin/frauenselbsthilfe-krebs-gruppe-luebeck/2026-02-02/
LOCATION:St.-Lukas-Haus\, Alexander-Flemming-Str. 14\, Lübeck\, Schleswig-Holstein\, 23562\, Deutschland
CATEGORIES:Selbsthilfegruppen
END:VEVENT
BEGIN:VEVENT
DTSTART;TZID=Europe/Berlin:20260112T173000
DTEND;TZID=Europe/Berlin:20260112T193000
DTSTAMP:20260422T025234
CREATED:20230412T153433Z
LAST-MODIFIED:20230412T172510Z
UID:10003465-1768239000-1768246200@testwpsl.krebsgesellschaft-sh.de
SUMMARY:Frauenselbsthilfe Krebs Gruppe Lübeck
DESCRIPTION:Wir treffen uns: um Erfahrungen auszutauschen; um Neuigkeiten aus dem Gesundheitssystem zu erfahren; zu Vorträgen von Expert*innen aus allen onkologischen Bereichen; um der Lebensfreude trotz Krebs Raum zu geben. \nTreffen: jeder erste Montag im Monat von 17:30 bis 19:30 Uhr \nWo: St.-Lukas-Haus\, Lübeck /Alexander-Fleming-Str.14 / 23562 Lübeck ; Bushaltestelle/ Linie1 und 2/ Alexander-Fleming-Straße \nKontakt: Miriam Downie & Karin Lüneburg: frauenselbsthilfe-luebeck@web.de \nDie Teilnahme ist kostenlos und unverbindlich.
URL:https://testwpsl.krebsgesellschaft-sh.de/termin/frauenselbsthilfe-krebs-2-2/2026-01-12/
LOCATION:St.-Lukas-Haus\, Alexander-Flemming-Str. 14\, Lübeck\, Schleswig-Holstein\, 23562\, Deutschland
CATEGORIES:Selbsthilfegruppen
END:VEVENT
BEGIN:VEVENT
DTSTART;TZID=Europe/Berlin:20260105T173000
DTEND;TZID=Europe/Berlin:20260105T193000
DTSTAMP:20260422T025234
CREATED:20230412T171933Z
LAST-MODIFIED:20230412T171933Z
UID:10003545-1767634200-1767641400@testwpsl.krebsgesellschaft-sh.de
SUMMARY:Frauenselbsthilfe Krebs Gruppe Lübeck
DESCRIPTION:Wir treffen uns: um Erfahrungen auszutauschen; um Neuigkeiten aus dem Gesundheitssystem zu erfahren; zu Vorträgen von Expert*innen aus allen onkologischen Bereichen; um der Lebensfreude trotz Krebs Raum zu geben. \nTreffen: jeder erste Montag im Monat von 17:30 bis 19:30 Uhr \nWo: St.-Lukas-Haus\, Lübeck /Alexander-Fleming-Str.14 / 23562 Lübeck ; Bushaltestelle/ Linie1 und 2/ Alexander-Fleming-Straße \nKontakt: Miriam Downie & Karin Lüneburg: frauenselbsthilfe-luebeck@web.de \nDie Teilnahme ist kostenlos und unverbindlich.
URL:https://testwpsl.krebsgesellschaft-sh.de/termin/frauenselbsthilfe-krebs-gruppe-luebeck/2026-01-05/
LOCATION:St.-Lukas-Haus\, Alexander-Flemming-Str. 14\, Lübeck\, Schleswig-Holstein\, 23562\, Deutschland
CATEGORIES:Selbsthilfegruppen
END:VEVENT
BEGIN:VEVENT
DTSTART;TZID=Europe/Berlin:20251208T173000
DTEND;TZID=Europe/Berlin:20251208T193000
DTSTAMP:20260422T025234
CREATED:20230412T153433Z
LAST-MODIFIED:20230412T172510Z
UID:10003464-1765215000-1765222200@testwpsl.krebsgesellschaft-sh.de
SUMMARY:Frauenselbsthilfe Krebs Gruppe Lübeck
DESCRIPTION:Wir treffen uns: um Erfahrungen auszutauschen; um Neuigkeiten aus dem Gesundheitssystem zu erfahren; zu Vorträgen von Expert*innen aus allen onkologischen Bereichen; um der Lebensfreude trotz Krebs Raum zu geben. \nTreffen: jeder erste Montag im Monat von 17:30 bis 19:30 Uhr \nWo: St.-Lukas-Haus\, Lübeck /Alexander-Fleming-Str.14 / 23562 Lübeck ; Bushaltestelle/ Linie1 und 2/ Alexander-Fleming-Straße \nKontakt: Miriam Downie & Karin Lüneburg: frauenselbsthilfe-luebeck@web.de \nDie Teilnahme ist kostenlos und unverbindlich.
URL:https://testwpsl.krebsgesellschaft-sh.de/termin/frauenselbsthilfe-krebs-2-2/2025-12-08/
LOCATION:St.-Lukas-Haus\, Alexander-Flemming-Str. 14\, Lübeck\, Schleswig-Holstein\, 23562\, Deutschland
CATEGORIES:Selbsthilfegruppen
END:VEVENT
BEGIN:VEVENT
DTSTART;TZID=Europe/Berlin:20251201T173000
DTEND;TZID=Europe/Berlin:20251201T193000
DTSTAMP:20260422T025234
CREATED:20230412T171933Z
LAST-MODIFIED:20230412T171933Z
UID:10003544-1764610200-1764617400@testwpsl.krebsgesellschaft-sh.de
SUMMARY:Frauenselbsthilfe Krebs Gruppe Lübeck
DESCRIPTION:Wir treffen uns: um Erfahrungen auszutauschen; um Neuigkeiten aus dem Gesundheitssystem zu erfahren; zu Vorträgen von Expert*innen aus allen onkologischen Bereichen; um der Lebensfreude trotz Krebs Raum zu geben. \nTreffen: jeder erste Montag im Monat von 17:30 bis 19:30 Uhr \nWo: St.-Lukas-Haus\, Lübeck /Alexander-Fleming-Str.14 / 23562 Lübeck ; Bushaltestelle/ Linie1 und 2/ Alexander-Fleming-Straße \nKontakt: Miriam Downie & Karin Lüneburg: frauenselbsthilfe-luebeck@web.de \nDie Teilnahme ist kostenlos und unverbindlich.
URL:https://testwpsl.krebsgesellschaft-sh.de/termin/frauenselbsthilfe-krebs-gruppe-luebeck/2025-12-01/
LOCATION:St.-Lukas-Haus\, Alexander-Flemming-Str. 14\, Lübeck\, Schleswig-Holstein\, 23562\, Deutschland
CATEGORIES:Selbsthilfegruppen
END:VEVENT
BEGIN:VEVENT
DTSTART;TZID=Europe/Berlin:20251110T173000
DTEND;TZID=Europe/Berlin:20251110T193000
DTSTAMP:20260422T025234
CREATED:20230412T153433Z
LAST-MODIFIED:20230412T172510Z
UID:10003463-1762795800-1762803000@testwpsl.krebsgesellschaft-sh.de
SUMMARY:Frauenselbsthilfe Krebs Gruppe Lübeck
DESCRIPTION:Wir treffen uns: um Erfahrungen auszutauschen; um Neuigkeiten aus dem Gesundheitssystem zu erfahren; zu Vorträgen von Expert*innen aus allen onkologischen Bereichen; um der Lebensfreude trotz Krebs Raum zu geben. \nTreffen: jeder erste Montag im Monat von 17:30 bis 19:30 Uhr \nWo: St.-Lukas-Haus\, Lübeck /Alexander-Fleming-Str.14 / 23562 Lübeck ; Bushaltestelle/ Linie1 und 2/ Alexander-Fleming-Straße \nKontakt: Miriam Downie & Karin Lüneburg: frauenselbsthilfe-luebeck@web.de \nDie Teilnahme ist kostenlos und unverbindlich.
URL:https://testwpsl.krebsgesellschaft-sh.de/termin/frauenselbsthilfe-krebs-2-2/2025-11-10/
LOCATION:St.-Lukas-Haus\, Alexander-Flemming-Str. 14\, Lübeck\, Schleswig-Holstein\, 23562\, Deutschland
CATEGORIES:Selbsthilfegruppen
END:VEVENT
BEGIN:VEVENT
DTSTART;TZID=Europe/Berlin:20251103T173000
DTEND;TZID=Europe/Berlin:20251103T193000
DTSTAMP:20260422T025234
CREATED:20230412T171933Z
LAST-MODIFIED:20230412T171933Z
UID:10003543-1762191000-1762198200@testwpsl.krebsgesellschaft-sh.de
SUMMARY:Frauenselbsthilfe Krebs Gruppe Lübeck
DESCRIPTION:Wir treffen uns: um Erfahrungen auszutauschen; um Neuigkeiten aus dem Gesundheitssystem zu erfahren; zu Vorträgen von Expert*innen aus allen onkologischen Bereichen; um der Lebensfreude trotz Krebs Raum zu geben. \nTreffen: jeder erste Montag im Monat von 17:30 bis 19:30 Uhr \nWo: St.-Lukas-Haus\, Lübeck /Alexander-Fleming-Str.14 / 23562 Lübeck ; Bushaltestelle/ Linie1 und 2/ Alexander-Fleming-Straße \nKontakt: Miriam Downie & Karin Lüneburg: frauenselbsthilfe-luebeck@web.de \nDie Teilnahme ist kostenlos und unverbindlich.
URL:https://testwpsl.krebsgesellschaft-sh.de/termin/frauenselbsthilfe-krebs-gruppe-luebeck/2025-11-03/
LOCATION:St.-Lukas-Haus\, Alexander-Flemming-Str. 14\, Lübeck\, Schleswig-Holstein\, 23562\, Deutschland
CATEGORIES:Selbsthilfegruppen
END:VEVENT
BEGIN:VEVENT
DTSTART;TZID=Europe/Berlin:20251013T173000
DTEND;TZID=Europe/Berlin:20251013T193000
DTSTAMP:20260422T025234
CREATED:20230412T153433Z
LAST-MODIFIED:20230412T172510Z
UID:10003462-1760376600-1760383800@testwpsl.krebsgesellschaft-sh.de
SUMMARY:Frauenselbsthilfe Krebs Gruppe Lübeck
DESCRIPTION:Wir treffen uns: um Erfahrungen auszutauschen; um Neuigkeiten aus dem Gesundheitssystem zu erfahren; zu Vorträgen von Expert*innen aus allen onkologischen Bereichen; um der Lebensfreude trotz Krebs Raum zu geben. \nTreffen: jeder erste Montag im Monat von 17:30 bis 19:30 Uhr \nWo: St.-Lukas-Haus\, Lübeck /Alexander-Fleming-Str.14 / 23562 Lübeck ; Bushaltestelle/ Linie1 und 2/ Alexander-Fleming-Straße \nKontakt: Miriam Downie & Karin Lüneburg: frauenselbsthilfe-luebeck@web.de \nDie Teilnahme ist kostenlos und unverbindlich.
URL:https://testwpsl.krebsgesellschaft-sh.de/termin/frauenselbsthilfe-krebs-2-2/2025-10-13/
LOCATION:St.-Lukas-Haus\, Alexander-Flemming-Str. 14\, Lübeck\, Schleswig-Holstein\, 23562\, Deutschland
CATEGORIES:Selbsthilfegruppen
END:VEVENT
BEGIN:VEVENT
DTSTART;TZID=Europe/Berlin:20251006T173000
DTEND;TZID=Europe/Berlin:20251006T193000
DTSTAMP:20260422T025234
CREATED:20230412T171933Z
LAST-MODIFIED:20230412T171933Z
UID:10003542-1759771800-1759779000@testwpsl.krebsgesellschaft-sh.de
SUMMARY:Frauenselbsthilfe Krebs Gruppe Lübeck
DESCRIPTION:Wir treffen uns: um Erfahrungen auszutauschen; um Neuigkeiten aus dem Gesundheitssystem zu erfahren; zu Vorträgen von Expert*innen aus allen onkologischen Bereichen; um der Lebensfreude trotz Krebs Raum zu geben. \nTreffen: jeder erste Montag im Monat von 17:30 bis 19:30 Uhr \nWo: St.-Lukas-Haus\, Lübeck /Alexander-Fleming-Str.14 / 23562 Lübeck ; Bushaltestelle/ Linie1 und 2/ Alexander-Fleming-Straße \nKontakt: Miriam Downie & Karin Lüneburg: frauenselbsthilfe-luebeck@web.de \nDie Teilnahme ist kostenlos und unverbindlich.
URL:https://testwpsl.krebsgesellschaft-sh.de/termin/frauenselbsthilfe-krebs-gruppe-luebeck/2025-10-06/
LOCATION:St.-Lukas-Haus\, Alexander-Flemming-Str. 14\, Lübeck\, Schleswig-Holstein\, 23562\, Deutschland
CATEGORIES:Selbsthilfegruppen
END:VEVENT
BEGIN:VEVENT
DTSTART;TZID=Europe/Berlin:20250908T173000
DTEND;TZID=Europe/Berlin:20250908T193000
DTSTAMP:20260422T025234
CREATED:20230412T153433Z
LAST-MODIFIED:20230412T172510Z
UID:10003461-1757352600-1757359800@testwpsl.krebsgesellschaft-sh.de
SUMMARY:Frauenselbsthilfe Krebs Gruppe Lübeck
DESCRIPTION:Wir treffen uns: um Erfahrungen auszutauschen; um Neuigkeiten aus dem Gesundheitssystem zu erfahren; zu Vorträgen von Expert*innen aus allen onkologischen Bereichen; um der Lebensfreude trotz Krebs Raum zu geben. \nTreffen: jeder erste Montag im Monat von 17:30 bis 19:30 Uhr \nWo: St.-Lukas-Haus\, Lübeck /Alexander-Fleming-Str.14 / 23562 Lübeck ; Bushaltestelle/ Linie1 und 2/ Alexander-Fleming-Straße \nKontakt: Miriam Downie & Karin Lüneburg: frauenselbsthilfe-luebeck@web.de \nDie Teilnahme ist kostenlos und unverbindlich.
URL:https://testwpsl.krebsgesellschaft-sh.de/termin/frauenselbsthilfe-krebs-2-2/2025-09-08/
LOCATION:St.-Lukas-Haus\, Alexander-Flemming-Str. 14\, Lübeck\, Schleswig-Holstein\, 23562\, Deutschland
CATEGORIES:Selbsthilfegruppen
END:VEVENT
BEGIN:VEVENT
DTSTART;TZID=Europe/Berlin:20250901T173000
DTEND;TZID=Europe/Berlin:20250901T193000
DTSTAMP:20260422T025234
CREATED:20230412T171933Z
LAST-MODIFIED:20230412T171933Z
UID:10003541-1756747800-1756755000@testwpsl.krebsgesellschaft-sh.de
SUMMARY:Frauenselbsthilfe Krebs Gruppe Lübeck
DESCRIPTION:Wir treffen uns: um Erfahrungen auszutauschen; um Neuigkeiten aus dem Gesundheitssystem zu erfahren; zu Vorträgen von Expert*innen aus allen onkologischen Bereichen; um der Lebensfreude trotz Krebs Raum zu geben. \nTreffen: jeder erste Montag im Monat von 17:30 bis 19:30 Uhr \nWo: St.-Lukas-Haus\, Lübeck /Alexander-Fleming-Str.14 / 23562 Lübeck ; Bushaltestelle/ Linie1 und 2/ Alexander-Fleming-Straße \nKontakt: Miriam Downie & Karin Lüneburg: frauenselbsthilfe-luebeck@web.de \nDie Teilnahme ist kostenlos und unverbindlich.
URL:https://testwpsl.krebsgesellschaft-sh.de/termin/frauenselbsthilfe-krebs-gruppe-luebeck/2025-09-01/
LOCATION:St.-Lukas-Haus\, Alexander-Flemming-Str. 14\, Lübeck\, Schleswig-Holstein\, 23562\, Deutschland
CATEGORIES:Selbsthilfegruppen
END:VEVENT
BEGIN:VEVENT
DTSTART;TZID=Europe/Berlin:20250811T173000
DTEND;TZID=Europe/Berlin:20250811T193000
DTSTAMP:20260422T025234
CREATED:20230412T153433Z
LAST-MODIFIED:20230412T172510Z
UID:10003460-1754933400-1754940600@testwpsl.krebsgesellschaft-sh.de
SUMMARY:Frauenselbsthilfe Krebs Gruppe Lübeck
DESCRIPTION:Wir treffen uns: um Erfahrungen auszutauschen; um Neuigkeiten aus dem Gesundheitssystem zu erfahren; zu Vorträgen von Expert*innen aus allen onkologischen Bereichen; um der Lebensfreude trotz Krebs Raum zu geben. \nTreffen: jeder erste Montag im Monat von 17:30 bis 19:30 Uhr \nWo: St.-Lukas-Haus\, Lübeck /Alexander-Fleming-Str.14 / 23562 Lübeck ; Bushaltestelle/ Linie1 und 2/ Alexander-Fleming-Straße \nKontakt: Miriam Downie & Karin Lüneburg: frauenselbsthilfe-luebeck@web.de \nDie Teilnahme ist kostenlos und unverbindlich.
URL:https://testwpsl.krebsgesellschaft-sh.de/termin/frauenselbsthilfe-krebs-2-2/2025-08-11/
LOCATION:St.-Lukas-Haus\, Alexander-Flemming-Str. 14\, Lübeck\, Schleswig-Holstein\, 23562\, Deutschland
CATEGORIES:Selbsthilfegruppen
END:VEVENT
BEGIN:VEVENT
DTSTART;TZID=Europe/Berlin:20250804T173000
DTEND;TZID=Europe/Berlin:20250804T193000
DTSTAMP:20260422T025234
CREATED:20230412T171933Z
LAST-MODIFIED:20230412T171933Z
UID:10003540-1754328600-1754335800@testwpsl.krebsgesellschaft-sh.de
SUMMARY:Frauenselbsthilfe Krebs Gruppe Lübeck
DESCRIPTION:Wir treffen uns: um Erfahrungen auszutauschen; um Neuigkeiten aus dem Gesundheitssystem zu erfahren; zu Vorträgen von Expert*innen aus allen onkologischen Bereichen; um der Lebensfreude trotz Krebs Raum zu geben. \nTreffen: jeder erste Montag im Monat von 17:30 bis 19:30 Uhr \nWo: St.-Lukas-Haus\, Lübeck /Alexander-Fleming-Str.14 / 23562 Lübeck ; Bushaltestelle/ Linie1 und 2/ Alexander-Fleming-Straße \nKontakt: Miriam Downie & Karin Lüneburg: frauenselbsthilfe-luebeck@web.de \nDie Teilnahme ist kostenlos und unverbindlich.
URL:https://testwpsl.krebsgesellschaft-sh.de/termin/frauenselbsthilfe-krebs-gruppe-luebeck/2025-08-04/
LOCATION:St.-Lukas-Haus\, Alexander-Flemming-Str. 14\, Lübeck\, Schleswig-Holstein\, 23562\, Deutschland
CATEGORIES:Selbsthilfegruppen
END:VEVENT
BEGIN:VEVENT
DTSTART;TZID=Europe/Berlin:20250714T173000
DTEND;TZID=Europe/Berlin:20250714T193000
DTSTAMP:20260422T025234
CREATED:20230412T153433Z
LAST-MODIFIED:20230412T172510Z
UID:10003459-1752514200-1752521400@testwpsl.krebsgesellschaft-sh.de
SUMMARY:Frauenselbsthilfe Krebs Gruppe Lübeck
DESCRIPTION:Wir treffen uns: um Erfahrungen auszutauschen; um Neuigkeiten aus dem Gesundheitssystem zu erfahren; zu Vorträgen von Expert*innen aus allen onkologischen Bereichen; um der Lebensfreude trotz Krebs Raum zu geben. \nTreffen: jeder erste Montag im Monat von 17:30 bis 19:30 Uhr \nWo: St.-Lukas-Haus\, Lübeck /Alexander-Fleming-Str.14 / 23562 Lübeck ; Bushaltestelle/ Linie1 und 2/ Alexander-Fleming-Straße \nKontakt: Miriam Downie & Karin Lüneburg: frauenselbsthilfe-luebeck@web.de \nDie Teilnahme ist kostenlos und unverbindlich.
URL:https://testwpsl.krebsgesellschaft-sh.de/termin/frauenselbsthilfe-krebs-2-2/2025-07-14/
LOCATION:St.-Lukas-Haus\, Alexander-Flemming-Str. 14\, Lübeck\, Schleswig-Holstein\, 23562\, Deutschland
CATEGORIES:Selbsthilfegruppen
END:VEVENT
BEGIN:VEVENT
DTSTART;TZID=Europe/Berlin:20250707T173000
DTEND;TZID=Europe/Berlin:20250707T193000
DTSTAMP:20260422T025234
CREATED:20230412T171933Z
LAST-MODIFIED:20230412T171933Z
UID:10003539-1751909400-1751916600@testwpsl.krebsgesellschaft-sh.de
SUMMARY:Frauenselbsthilfe Krebs Gruppe Lübeck
DESCRIPTION:Wir treffen uns: um Erfahrungen auszutauschen; um Neuigkeiten aus dem Gesundheitssystem zu erfahren; zu Vorträgen von Expert*innen aus allen onkologischen Bereichen; um der Lebensfreude trotz Krebs Raum zu geben. \nTreffen: jeder erste Montag im Monat von 17:30 bis 19:30 Uhr \nWo: St.-Lukas-Haus\, Lübeck /Alexander-Fleming-Str.14 / 23562 Lübeck ; Bushaltestelle/ Linie1 und 2/ Alexander-Fleming-Straße \nKontakt: Miriam Downie & Karin Lüneburg: frauenselbsthilfe-luebeck@web.de \nDie Teilnahme ist kostenlos und unverbindlich.
URL:https://testwpsl.krebsgesellschaft-sh.de/termin/frauenselbsthilfe-krebs-gruppe-luebeck/2025-07-07/
LOCATION:St.-Lukas-Haus\, Alexander-Flemming-Str. 14\, Lübeck\, Schleswig-Holstein\, 23562\, Deutschland
CATEGORIES:Selbsthilfegruppen
END:VEVENT
BEGIN:VEVENT
DTSTART;TZID=Europe/Berlin:20250609T173000
DTEND;TZID=Europe/Berlin:20250609T193000
DTSTAMP:20260422T025234
CREATED:20230412T153433Z
LAST-MODIFIED:20230412T172510Z
UID:10003458-1749490200-1749497400@testwpsl.krebsgesellschaft-sh.de
SUMMARY:Frauenselbsthilfe Krebs Gruppe Lübeck
DESCRIPTION:Wir treffen uns: um Erfahrungen auszutauschen; um Neuigkeiten aus dem Gesundheitssystem zu erfahren; zu Vorträgen von Expert*innen aus allen onkologischen Bereichen; um der Lebensfreude trotz Krebs Raum zu geben. \nTreffen: jeder erste Montag im Monat von 17:30 bis 19:30 Uhr \nWo: St.-Lukas-Haus\, Lübeck /Alexander-Fleming-Str.14 / 23562 Lübeck ; Bushaltestelle/ Linie1 und 2/ Alexander-Fleming-Straße \nKontakt: Miriam Downie & Karin Lüneburg: frauenselbsthilfe-luebeck@web.de \nDie Teilnahme ist kostenlos und unverbindlich.
URL:https://testwpsl.krebsgesellschaft-sh.de/termin/frauenselbsthilfe-krebs-2-2/2025-06-09/
LOCATION:St.-Lukas-Haus\, Alexander-Flemming-Str. 14\, Lübeck\, Schleswig-Holstein\, 23562\, Deutschland
CATEGORIES:Selbsthilfegruppen
END:VEVENT
BEGIN:VEVENT
DTSTART;TZID=Europe/Berlin:20250602T173000
DTEND;TZID=Europe/Berlin:20250602T193000
DTSTAMP:20260422T025234
CREATED:20230412T171933Z
LAST-MODIFIED:20230412T171933Z
UID:10003538-1748885400-1748892600@testwpsl.krebsgesellschaft-sh.de
SUMMARY:Frauenselbsthilfe Krebs Gruppe Lübeck
DESCRIPTION:Wir treffen uns: um Erfahrungen auszutauschen; um Neuigkeiten aus dem Gesundheitssystem zu erfahren; zu Vorträgen von Expert*innen aus allen onkologischen Bereichen; um der Lebensfreude trotz Krebs Raum zu geben. \nTreffen: jeder erste Montag im Monat von 17:30 bis 19:30 Uhr \nWo: St.-Lukas-Haus\, Lübeck /Alexander-Fleming-Str.14 / 23562 Lübeck ; Bushaltestelle/ Linie1 und 2/ Alexander-Fleming-Straße \nKontakt: Miriam Downie & Karin Lüneburg: frauenselbsthilfe-luebeck@web.de \nDie Teilnahme ist kostenlos und unverbindlich.
URL:https://testwpsl.krebsgesellschaft-sh.de/termin/frauenselbsthilfe-krebs-gruppe-luebeck/2025-06-02/
LOCATION:St.-Lukas-Haus\, Alexander-Flemming-Str. 14\, Lübeck\, Schleswig-Holstein\, 23562\, Deutschland
CATEGORIES:Selbsthilfegruppen
END:VEVENT
BEGIN:VEVENT
DTSTART;TZID=Europe/Berlin:20250512T173000
DTEND;TZID=Europe/Berlin:20250512T193000
DTSTAMP:20260422T025234
CREATED:20230412T153433Z
LAST-MODIFIED:20230412T172510Z
UID:10003457-1747071000-1747078200@testwpsl.krebsgesellschaft-sh.de
SUMMARY:Frauenselbsthilfe Krebs Gruppe Lübeck
DESCRIPTION:Wir treffen uns: um Erfahrungen auszutauschen; um Neuigkeiten aus dem Gesundheitssystem zu erfahren; zu Vorträgen von Expert*innen aus allen onkologischen Bereichen; um der Lebensfreude trotz Krebs Raum zu geben. \nTreffen: jeder erste Montag im Monat von 17:30 bis 19:30 Uhr \nWo: St.-Lukas-Haus\, Lübeck /Alexander-Fleming-Str.14 / 23562 Lübeck ; Bushaltestelle/ Linie1 und 2/ Alexander-Fleming-Straße \nKontakt: Miriam Downie & Karin Lüneburg: frauenselbsthilfe-luebeck@web.de \nDie Teilnahme ist kostenlos und unverbindlich.
URL:https://testwpsl.krebsgesellschaft-sh.de/termin/frauenselbsthilfe-krebs-2-2/2025-05-12/
LOCATION:St.-Lukas-Haus\, Alexander-Flemming-Str. 14\, Lübeck\, Schleswig-Holstein\, 23562\, Deutschland
CATEGORIES:Selbsthilfegruppen
END:VEVENT
BEGIN:VEVENT
DTSTART;TZID=Europe/Berlin:20250505T173000
DTEND;TZID=Europe/Berlin:20250505T193000
DTSTAMP:20260422T025234
CREATED:20230412T171933Z
LAST-MODIFIED:20230412T171933Z
UID:10003537-1746466200-1746473400@testwpsl.krebsgesellschaft-sh.de
SUMMARY:Frauenselbsthilfe Krebs Gruppe Lübeck
DESCRIPTION:Wir treffen uns: um Erfahrungen auszutauschen; um Neuigkeiten aus dem Gesundheitssystem zu erfahren; zu Vorträgen von Expert*innen aus allen onkologischen Bereichen; um der Lebensfreude trotz Krebs Raum zu geben. \nTreffen: jeder erste Montag im Monat von 17:30 bis 19:30 Uhr \nWo: St.-Lukas-Haus\, Lübeck /Alexander-Fleming-Str.14 / 23562 Lübeck ; Bushaltestelle/ Linie1 und 2/ Alexander-Fleming-Straße \nKontakt: Miriam Downie & Karin Lüneburg: frauenselbsthilfe-luebeck@web.de \nDie Teilnahme ist kostenlos und unverbindlich.
URL:https://testwpsl.krebsgesellschaft-sh.de/termin/frauenselbsthilfe-krebs-gruppe-luebeck/2025-05-05/
LOCATION:St.-Lukas-Haus\, Alexander-Flemming-Str. 14\, Lübeck\, Schleswig-Holstein\, 23562\, Deutschland
CATEGORIES:Selbsthilfegruppen
END:VEVENT
END:VCALENDAR